BEGIN:VCALENDAR
VERSION:2.0
PRODID:calendify.com
BEGIN:VEVENT
UID:calendify-session-JdVgaDVoMPj
DTSTART:20180330T170000Z
SEQUENCE:0
TRANSP:OPAQUE
DTEND:20180330T173000Z
URL:https://calendify.com/session/JdVgaDVoMPj
LOCATION:Max Planck
SUMMARY:ABGESAGT: Arbeiten in einem \"jungen\" creativen FilmPool
CLASS:PUBLIC
DESCRIPTION:https://calendify.com/session/JdVgaDVoMPj
DTSTAMP:20260422T222336Z
CREATED:20200520T231946Z
LAST-MODIFIED:20200520T231946Z
END:VEVENT
END:VCALENDAR