BEGIN:VCALENDAR
VERSION:2.0
PRODID:calendify.com
BEGIN:VEVENT
UID:calendify-session-JdVgaDa0MPj
DTSTART:20201228T170000Z
SEQUENCE:0
TRANSP:OPAQUE
DTEND:20201228T180000Z
URL:https://calendify.com/session/JdVgaDa0MPj
LOCATION:rC1
SUMMARY:What Price the Upload Filter?
CLASS:PUBLIC
DESCRIPTION:https://calendify.com/session/JdVgaDa0MPj
DTSTAMP:20260422T140154Z
CREATED:20201221T231541Z
LAST-MODIFIED:20211226T191140Z
END:VEVENT
END:VCALENDAR