BEGIN:VCALENDAR
VERSION:2.0
PRODID:calendify.com
BEGIN:VEVENT
UID:calendify-session-JdVgaDpKMPj
DTSTART:20201230T130000Z
SEQUENCE:0
TRANSP:OPAQUE
DTEND:20201230T140000Z
URL:https://calendify.com/session/JdVgaDpKMPj
LOCATION:Bitwäscherei Zürich
SUMMARY:BadLab - Nature Fights Back
CLASS:PUBLIC
DESCRIPTION:https://calendify.com/session/JdVgaDpKMPj
DTSTAMP:20260423T162114Z
CREATED:20201228T220303Z
LAST-MODIFIED:20210114T154804Z
END:VEVENT
END:VCALENDAR