BEGIN:VCALENDAR
VERSION:2.0
PRODID:calendify.com
BEGIN:VEVENT
UID:calendify-session-JdVgaE75gPj
DTSTART:20200201T113000Z
SEQUENCE:0
TRANSP:OPAQUE
DTEND:20200201T115000Z
URL:https://calendify.com/session/JdVgaE75gPj
LOCATION:AW1.121
SUMMARY:Lumen
CLASS:PUBLIC
DESCRIPTION:https://calendify.com/session/JdVgaE75gPj
DTSTAMP:20260425T023848Z
CREATED:20200513T234730Z
LAST-MODIFIED:20210426T093308Z
END:VEVENT
END:VCALENDAR