BEGIN:VCALENDAR
VERSION:2.0
PRODID:calendify.com
BEGIN:VEVENT
UID:calendify-session-JdVgaELQgPj
DTSTART:20180513T100000Z
SEQUENCE:0
TRANSP:OPAQUE
DTEND:20180513T110000Z
URL:https://calendify.com/session/JdVgaELQgPj
LOCATION:HfG_Workshoproom
SUMMARY:Rope Advance
CLASS:PUBLIC
DESCRIPTION:https://calendify.com/session/JdVgaELQgPj
DTSTAMP:20260422T015342Z
CREATED:20200513T011828Z
LAST-MODIFIED:20200513T011828Z
END:VEVENT
END:VCALENDAR