BEGIN:VCALENDAR
VERSION:2.0
PRODID:calendify.com
BEGIN:VEVENT
UID:calendify-session-JdVgaENogPj
DTSTART:20200202T091000Z
SEQUENCE:0
TRANSP:OPAQUE
DTEND:20200202T093000Z
URL:https://calendify.com/session/JdVgaENogPj
LOCATION:UD2.218A
SUMMARY:AI at the edge with Tensorflow Lite to Design the Future of Vertica
 l Farming
CLASS:PUBLIC
DESCRIPTION:https://calendify.com/session/JdVgaENogPj
DTSTAMP:20260424T003007Z
CREATED:20200513T234735Z
LAST-MODIFIED:20210426T093311Z
END:VEVENT
END:VCALENDAR