BEGIN:VCALENDAR
VERSION:2.0
PRODID:calendify.com
BEGIN:VEVENT
UID:calendify-session-JdVgaEXpgPj
DTSTART:20190601T201500Z
SEQUENCE:0
TRANSP:OPAQUE
DTEND:20190601T214500Z
URL:https://calendify.com/session/JdVgaEXpgPj
LOCATION:ZKM_AckerSpace
SUMMARY:Die Werwölfe von Düsterwald
CLASS:PUBLIC
DESCRIPTION:https://calendify.com/session/JdVgaEXpgPj
DTSTAMP:20260419T204008Z
CREATED:20200509T115125Z
LAST-MODIFIED:20200509T115125Z
END:VEVENT
END:VCALENDAR