BEGIN:VCALENDAR
VERSION:2.0
PRODID:calendify.com
BEGIN:VEVENT
UID:calendify-session-JdVgaEqVgPj
DTSTART:20200201T134500Z
SEQUENCE:0
TRANSP:OPAQUE
DTEND:20200201T140500Z
URL:https://calendify.com/session/JdVgaEqVgPj
LOCATION:UD2.208 (Decroly)
SUMMARY:Running full Linux systems in containers\, at scale
CLASS:PUBLIC
DESCRIPTION:https://calendify.com/session/JdVgaEqVgPj
DTSTAMP:20260424T053230Z
CREATED:20200513T234731Z
LAST-MODIFIED:20210426T093308Z
END:VEVENT
END:VCALENDAR