BEGIN:VCALENDAR
VERSION:2.0
PRODID:calendify.com
BEGIN:VEVENT
UID:calendify-session-JdVgaEx0gPj
DTSTART:20180511T110000Z
SEQUENCE:0
TRANSP:OPAQUE
DTEND:20180511T120000Z
URL:https://calendify.com/session/JdVgaEx0gPj
LOCATION:HfG_Studio
SUMMARY:HowTo: Moving Objects
CLASS:PUBLIC
DESCRIPTION:https://calendify.com/session/JdVgaEx0gPj
DTSTAMP:20260422T015218Z
CREATED:20200513T011827Z
LAST-MODIFIED:20200513T011827Z
END:VEVENT
END:VCALENDAR