BEGIN:VCALENDAR
VERSION:2.0
PRODID:calendify.com
BEGIN:VEVENT
UID:calendify-session-JdVgaW1pOPj
DTSTART:20231230T100000Z
SEQUENCE:0
TRANSP:OPAQUE
DTEND:20231230T113000Z
URL:https://calendify.com/session/JdVgaW1pOPj
LOCATION:FAU Assembly (Halle H)
SUMMARY:FreeCAD Workshop
CLASS:PUBLIC
DESCRIPTION:https://calendify.com/session/JdVgaW1pOPj
DTSTAMP:20260423T020330Z
CREATED:20231225T161002Z
LAST-MODIFIED:20240401T142934Z
END:VEVENT
END:VCALENDAR