BEGIN:VCALENDAR
VERSION:2.0
PRODID:calendify.com
BEGIN:VEVENT
UID:calendify-session-JdVgaWAVOPj
DTSTART:20231229T163500Z
SEQUENCE:0
TRANSP:OPAQUE
DTEND:20231229T171500Z
URL:https://calendify.com/session/JdVgaWAVOPj
LOCATION:Saal Zuse
SUMMARY:Ecocide and (green) colonialism in Sápmi
CLASS:PUBLIC
DESCRIPTION:https://calendify.com/session/JdVgaWAVOPj
DTSTAMP:20260421T144154Z
CREATED:20231215T204822Z
LAST-MODIFIED:20240401T142932Z
END:VEVENT
END:VCALENDAR