BEGIN:VCALENDAR
VERSION:2.0
PRODID:calendify.com
BEGIN:VEVENT
UID:calendify-session-JdVgaWL1OPj
DTSTART:20231227T150000Z
SEQUENCE:0
TRANSP:OPAQUE
DTEND:20231227T160000Z
URL:https://calendify.com/session/JdVgaWL1OPj
LOCATION:Stage Y
SUMMARY:Wondrous mathematics: Three bizarre logico-philosophical tales abou
 t the axiom of choice
CLASS:PUBLIC
DESCRIPTION:https://calendify.com/session/JdVgaWL1OPj
DTSTAMP:20260423T043246Z
CREATED:20231224T230003Z
LAST-MODIFIED:20240401T142932Z
END:VEVENT
END:VCALENDAR