BEGIN:VCALENDAR
VERSION:2.0
PRODID:calendify.com
BEGIN:VEVENT
UID:calendify-session-JdVgaWZ0OPj
DTSTART:20231229T183000Z
SEQUENCE:0
TRANSP:OPAQUE
DTEND:20231229T192000Z
URL:https://calendify.com/session/JdVgaWZ0OPj
LOCATION:House
SUMMARY:privacy aware computers for non-techies
CLASS:PUBLIC
DESCRIPTION:https://calendify.com/session/JdVgaWZ0OPj
DTSTAMP:20260423T031229Z
CREATED:20231229T034003Z
LAST-MODIFIED:20240401T142932Z
END:VEVENT
END:VCALENDAR