BEGIN:VCALENDAR
VERSION:2.0
PRODID:calendify.com
BEGIN:VEVENT
UID:calendify-session-JdVgaWprOPj
DTSTART:20230902T150000Z
SEQUENCE:0
TRANSP:OPAQUE
DTEND:20230902T155000Z
URL:https://calendify.com/session/JdVgaWprOPj
LOCATION:C120 - Arkanraum
SUMMARY:GigaFunk\, Freifunk ins Gigabit-Zeitalter
CLASS:PUBLIC
DESCRIPTION:https://calendify.com/session/JdVgaWprOPj
DTSTAMP:20260422T183043Z
CREATED:20240328T132702Z
LAST-MODIFIED:20240328T132702Z
END:VEVENT
END:VCALENDAR