BEGIN:VCALENDAR
VERSION:2.0
PRODID:calendify.com
BEGIN:VEVENT
UID:calendify-session-JdVgaWvQOPj
DTSTART:20240331T121500Z
SEQUENCE:0
TRANSP:OPAQUE
DTEND:20240331T151500Z
URL:https://calendify.com/session/JdVgaWvQOPj
LOCATION:Hardware Hegging Area - K005
SUMMARY:RGBend Solder Session
CLASS:PUBLIC
DESCRIPTION:https://calendify.com/session/JdVgaWvQOPj
DTSTAMP:20260423T184133Z
CREATED:20240328T125152Z
LAST-MODIFIED:20240401T142841Z
END:VEVENT
END:VCALENDAR