BEGIN:VCALENDAR
VERSION:2.0
PRODID:calendify.com
BEGIN:VEVENT
UID:calendify-session-JdVgaXV5MPj
DTSTART:20241227T160000Z
SEQUENCE:0
TRANSP:OPAQUE
DTEND:20241227T164500Z
URL:https://calendify.com/session/JdVgaXV5MPj
LOCATION:\"KliMathematik Augsburg\" Table
SUMMARY:Physikalische Grundlagen der Klimakrise
CLASS:PUBLIC
DESCRIPTION:https://calendify.com/session/JdVgaXV5MPj
DTSTAMP:20260421T135825Z
CREATED:20241227T141502Z
LAST-MODIFIED:20250101T225002Z
END:VEVENT
END:VCALENDAR