BEGIN:VCALENDAR
VERSION:2.0
PRODID:calendify.com
BEGIN:VEVENT
UID:calendify-session-JdVgaXjlMPj
DTSTART:20241229T120000Z
SEQUENCE:0
TRANSP:OPAQUE
DTEND:20241229T133000Z
URL:https://calendify.com/session/JdVgaXjlMPj
LOCATION:Saal X 07
SUMMARY:THW Meet Up - \"Neues aus der Anstalt\"
CLASS:PUBLIC
DESCRIPTION:https://calendify.com/session/JdVgaXjlMPj
DTSTAMP:20260419T223430Z
CREATED:20241228T202004Z
LAST-MODIFIED:20250101T225003Z
END:VEVENT
END:VCALENDAR