BEGIN:VCALENDAR
VERSION:2.0
PRODID:calendify.com
BEGIN:VEVENT
UID:calendify-session-JdVgae55gPj
DTSTART:20211030T140000Z
SEQUENCE:0
TRANSP:OPAQUE
DTEND:20211030T144500Z
URL:https://calendify.com/session/JdVgae55gPj
LOCATION:Stream
SUMMARY:Desolate Deutsche Netzpolitik
CLASS:PUBLIC
DESCRIPTION:https://calendify.com/session/JdVgae55gPj
DTSTAMP:20260424T002940Z
CREATED:20210916T064746Z
LAST-MODIFIED:20211101T215003Z
END:VEVENT
END:VCALENDAR