BEGIN:VCALENDAR
VERSION:2.0
PRODID:calendify.com
BEGIN:VEVENT
UID:calendify-session-JdVgaeaVgPj
DTSTART:20211229T133000Z
SEQUENCE:0
TRANSP:OPAQUE
DTEND:20211229T143000Z
URL:https://calendify.com/session/JdVgaeaVgPj
LOCATION:ChaosZone TV
SUMMARY:Menschen könnten wütend werden - das BMBF\, die Not-Hilfe und das
  IFG
CLASS:PUBLIC
DESCRIPTION:https://calendify.com/session/JdVgaeaVgPj
DTSTAMP:20260422T083912Z
CREATED:20211220T014017Z
LAST-MODIFIED:20211230T225002Z
END:VEVENT
END:VCALENDAR