BEGIN:VCALENDAR
VERSION:2.0
PRODID:calendify.com
BEGIN:VEVENT
UID:calendify-session-JdVgaedlgPj
DTSTART:20220205T153000Z
SEQUENCE:0
TRANSP:OPAQUE
DTEND:20220205T160000Z
URL:https://calendify.com/session/JdVgaedlgPj
LOCATION:D.libreoffice
SUMMARY:Advantages of LibreOffice Technology
CLASS:PUBLIC
DESCRIPTION:https://calendify.com/session/JdVgaedlgPj
DTSTAMP:20260420T092537Z
CREATED:20220120T214602Z
LAST-MODIFIED:20220206T225002Z
END:VEVENT
END:VCALENDAR