BEGIN:VCALENDAR
VERSION:2.0
PRODID:calendify.com
BEGIN:VEVENT
UID:calendify-session-JdVgaeelgPj
DTSTART:20210315T213000Z
SEQUENCE:0
TRANSP:OPAQUE
DTEND:20210315T223000Z
URL:https://calendify.com/session/JdVgaeelgPj
LOCATION:Zoom Room 4A
SUMMARY:Black Women Disrupting the Status Quo in Technology
CLASS:PUBLIC
DESCRIPTION:https://calendify.com/session/JdVgaeelgPj
DTSTAMP:20260422T215040Z
CREATED:20210426T094928Z
LAST-MODIFIED:20210426T094928Z
END:VEVENT
END:VCALENDAR