BEGIN:VCALENDAR
VERSION:2.0
PRODID:calendify.com
BEGIN:VEVENT
UID:calendify-session-JdVgaem1gPj
DTSTART:20211228T184301Z
SEQUENCE:0
TRANSP:OPAQUE
DTEND:20211228T203701Z
URL:https://calendify.com/session/JdVgaem1gPj
LOCATION:rC3 Lounge
SUMMARY:Bo Irion
CLASS:PUBLIC
DESCRIPTION:https://calendify.com/session/JdVgaem1gPj
DTSTAMP:20260420T095637Z
CREATED:20211226T205000Z
LAST-MODIFIED:20211230T225002Z
END:VEVENT
END:VCALENDAR