BEGIN:VCALENDAR
VERSION:2.0
PRODID:calendify.com
BEGIN:VEVENT
UID:calendify-session-JdVgan814Pj
DTSTART:20161228T120000Z
SEQUENCE:0
TRANSP:OPAQUE
DTEND:20161228T123000Z
URL:https://calendify.com/session/JdVgan814Pj
LOCATION:Saal 1
SUMMARY:Hacking the World
CLASS:PUBLIC
DESCRIPTION:https://calendify.com/session/JdVgan814Pj
DTSTAMP:20260420T170935Z
CREATED:20220415T135302Z
LAST-MODIFIED:20220415T135302Z
END:VEVENT
END:VCALENDAR