BEGIN:VCALENDAR
VERSION:2.0
PRODID:calendify.com
BEGIN:VEVENT
UID:calendify-session-JdVganJo4Pj
DTSTART:20220520T124500Z
SEQUENCE:0
TRANSP:OPAQUE
DTEND:20220520T144500Z
URL:https://calendify.com/session/JdVganJo4Pj
LOCATION:Ausstellung BioMedien
SUMMARY:Einstieg in die Spieleentwicklung mit TIC-80
CLASS:PUBLIC
DESCRIPTION:https://calendify.com/session/JdVganJo4Pj
DTSTAMP:20260424T082649Z
CREATED:20220502T005752Z
LAST-MODIFIED:20220521T215002Z
END:VEVENT
END:VCALENDAR