BEGIN:VCALENDAR
VERSION:2.0
PRODID:calendify.com
BEGIN:VEVENT
UID:calendify-session-JdVganZV4Pj
DTSTART:20220610T120000Z
SEQUENCE:0
TRANSP:OPAQUE
DTEND:20220610T130000Z
URL:https://calendify.com/session/JdVganZV4Pj
LOCATION:Media Meetup
SUMMARY:Start digital collaboration now! Schwarmkuration & Co-Kreation mit 
 nextmuseum.io
CLASS:PUBLIC
DESCRIPTION:https://calendify.com/session/JdVganZV4Pj
DTSTAMP:20260423T104812Z
CREATED:20220526T162947Z
LAST-MODIFIED:20220613T235204Z
END:VEVENT
END:VCALENDAR