BEGIN:VCALENDAR
VERSION:2.0
PRODID:calendify.com
BEGIN:VEVENT
UID:calendify-session-JdVganmK4Pj
DTSTART:20220608T103000Z
SEQUENCE:0
TRANSP:OPAQUE
DTEND:20220608T104500Z
URL:https://calendify.com/session/JdVganmK4Pj
LOCATION:Stage 1
SUMMARY:Dialog mit Karlheinz
CLASS:PUBLIC
DESCRIPTION:https://calendify.com/session/JdVganmK4Pj
DTSTAMP:20260423T172433Z
CREATED:20220526T162947Z
LAST-MODIFIED:20220613T235204Z
END:VEVENT
END:VCALENDAR