BEGIN:VCALENDAR
VERSION:2.0
PRODID:calendify.com
BEGIN:VEVENT
UID:calendify-session-JdVgany54Pj
DTSTART:20220206T093000Z
SEQUENCE:0
TRANSP:OPAQUE
DTEND:20220206T095500Z
URL:https://calendify.com/session/JdVgany54Pj
LOCATION:D.mysql
SUMMARY:The relational model in the modern development age
CLASS:PUBLIC
DESCRIPTION:https://calendify.com/session/JdVgany54Pj
DTSTAMP:20260422T203933Z
CREATED:20220120T214608Z
LAST-MODIFIED:20220206T225004Z
END:VEVENT
END:VCALENDAR