BEGIN:VCALENDAR
VERSION:2.0
PRODID:calendify.com
BEGIN:VEVENT
UID:calendify-session-JdVgar0l4Pj
DTSTART:20210207T090000Z
SEQUENCE:0
TRANSP:OPAQUE
DTEND:20210207T093000Z
URL:https://calendify.com/session/JdVgar0l4Pj
LOCATION:M.misc
SUMMARY:Shaken Fist\, thought experiments in simpler IaaS clouds
CLASS:PUBLIC
DESCRIPTION:https://calendify.com/session/JdVgar0l4Pj
DTSTAMP:20260419T194841Z
CREATED:20210125T190821Z
LAST-MODIFIED:20210208T224803Z
END:VEVENT
END:VCALENDAR