BEGIN:VCALENDAR
VERSION:2.0
PRODID:calendify.com
BEGIN:VEVENT
UID:calendify-session-JdVgar5V4Pj
DTSTART:20210207T090000Z
SEQUENCE:0
TRANSP:OPAQUE
DTEND:20210207T094500Z
URL:https://calendify.com/session/JdVgar5V4Pj
LOCATION:D.dependency
SUMMARY:Software Ecosystems as Networks
CLASS:PUBLIC
DESCRIPTION:https://calendify.com/session/JdVgar5V4Pj
DTSTAMP:20260419T223416Z
CREATED:20210112T232157Z
LAST-MODIFIED:20210208T224804Z
END:VEVENT
END:VCALENDAR