BEGIN:VCALENDAR
VERSION:2.0
PRODID:calendify.com
BEGIN:VEVENT
UID:calendify-session-JdVgarL14Pj
DTSTART:20210207T134000Z
SEQUENCE:0
TRANSP:OPAQUE
DTEND:20210207T140000Z
URL:https://calendify.com/session/JdVgarL14Pj
LOCATION:L.lightningtalks
SUMMARY:Building a Git learning game
CLASS:PUBLIC
DESCRIPTION:https://calendify.com/session/JdVgarL14Pj
DTSTAMP:20260423T174540Z
CREATED:20210114T155443Z
LAST-MODIFIED:20210208T224803Z
END:VEVENT
END:VCALENDAR