BEGIN:VCALENDAR
VERSION:2.0
PRODID:calendify.com
BEGIN:VEVENT
UID:calendify-session-JdVgarWr4Pj
DTSTART:20210206T142000Z
SEQUENCE:0
TRANSP:OPAQUE
DTEND:20210206T152000Z
URL:https://calendify.com/session/JdVgarWr4Pj
LOCATION:D.testing
SUMMARY:Unit Testing Ansible Roles using TDD with Molecule
CLASS:PUBLIC
DESCRIPTION:https://calendify.com/session/JdVgarWr4Pj
DTSTAMP:20260419T124231Z
CREATED:20210111T170319Z
LAST-MODIFIED:20210208T224803Z
END:VEVENT
END:VCALENDAR