BEGIN:VCALENDAR
VERSION:2.0
PRODID:calendify.com
BEGIN:VEVENT
UID:calendify-session-JdVgarX54Pj
DTSTART:20210207T114500Z
SEQUENCE:0
TRANSP:OPAQUE
DTEND:20210207T122500Z
URL:https://calendify.com/session/JdVgarX54Pj
LOCATION:D.dependency
SUMMARY:As Strong as the Weakest Link
CLASS:PUBLIC
DESCRIPTION:https://calendify.com/session/JdVgarX54Pj
DTSTAMP:20260419T194750Z
CREATED:20210111T170319Z
LAST-MODIFIED:20210208T224804Z
END:VEVENT
END:VCALENDAR