BEGIN:VCALENDAR
VERSION:2.0
PRODID:calendify.com
BEGIN:VEVENT
UID:calendify-session-JdVgarZo4Pj
DTSTART:20210207T130000Z
SEQUENCE:0
TRANSP:OPAQUE
DTEND:20210207T133000Z
URL:https://calendify.com/session/JdVgarZo4Pj
LOCATION:S.sesame
SUMMARY:Meet Dr. Erik Riedel\, SVP Engineering of Sesame 
CLASS:PUBLIC
DESCRIPTION:https://calendify.com/session/JdVgarZo4Pj
DTSTAMP:20260419T212052Z
CREATED:20210207T081804Z
LAST-MODIFIED:20210208T224804Z
END:VEVENT
END:VCALENDAR