BEGIN:VCALENDAR
VERSION:2.0
PRODID:calendify.com
BEGIN:VEVENT
UID:calendify-session-JdVgarap4Pj
DTSTART:20210206T141500Z
SEQUENCE:0
TRANSP:OPAQUE
DTEND:20210206T150000Z
URL:https://calendify.com/session/JdVgarap4Pj
LOCATION:D.mozilla
SUMMARY:Mozilla History: 20+ Years And Counting
CLASS:PUBLIC
DESCRIPTION:https://calendify.com/session/JdVgarap4Pj
DTSTAMP:20260419T223244Z
CREATED:20210125T190820Z
LAST-MODIFIED:20210208T224802Z
END:VEVENT
END:VCALENDAR