BEGIN:VCALENDAR
VERSION:2.0
PRODID:calendify.com
BEGIN:VEVENT
UID:calendify-session-JdVgareQ4Pj
DTSTART:20210206T090000Z
SEQUENCE:0
TRANSP:OPAQUE
DTEND:20210206T090500Z
URL:https://calendify.com/session/JdVgareQ4Pj
LOCATION:D.mariadb
SUMMARY:Welcome to the MariaDB devroom
CLASS:PUBLIC
DESCRIPTION:https://calendify.com/session/JdVgareQ4Pj
DTSTAMP:20260423T122311Z
CREATED:20210111T170318Z
LAST-MODIFIED:20210208T224802Z
END:VEVENT
END:VCALENDAR