BEGIN:VCALENDAR
VERSION:2.0
PRODID:calendify.com
BEGIN:VEVENT
UID:calendify-session-JdVgarwr4Pj
DTSTART:20210207T120000Z
SEQUENCE:0
TRANSP:OPAQUE
DTEND:20210207T122000Z
URL:https://calendify.com/session/JdVgarwr4Pj
LOCATION:D.community
SUMMARY:Improving Onboarding  in FOSS
CLASS:PUBLIC
DESCRIPTION:https://calendify.com/session/JdVgarwr4Pj
DTSTAMP:20260419T124447Z
CREATED:20210111T170319Z
LAST-MODIFIED:20210208T224803Z
END:VEVENT
END:VCALENDAR