BEGIN:VCALENDAR
VERSION:2.0
PRODID:calendify.com
BEGIN:VEVENT
UID:calendify-session-JdVgawXQOPj
DTSTART:20240921T080000Z
SEQUENCE:0
TRANSP:OPAQUE
DTEND:20240921T180000Z
URL:https://calendify.com/session/JdVgawXQOPj
LOCATION:Hof 1
SUMMARY:OpenStreetMap - Infostand
CLASS:PUBLIC
DESCRIPTION:https://calendify.com/session/JdVgawXQOPj
DTSTAMP:20260420T233441Z
CREATED:20241208T220338Z
LAST-MODIFIED:20241208T220338Z
END:VEVENT
END:VCALENDAR