BEGIN:VCALENDAR
VERSION:2.0
PRODID:calendify.com
BEGIN:VEVENT
UID:calendify-session-K7NgQ5NGgL8
DTSTART:20190921T090000Z
SEQUENCE:0
TRANSP:OPAQUE
DTEND:20190921T140000Z
URL:https://calendify.com/session/K7NgQ5NGgL8
LOCATION:Zentralwerk Hof
SUMMARY:Hofprogramm Samstag ↓↓↓
CLASS:PUBLIC
DESCRIPTION:https://calendify.com/session/K7NgQ5NGgL8
DTSTAMP:20260424T040456Z
CREATED:20200610T174346Z
LAST-MODIFIED:20200610T174346Z
END:VEVENT
END:VCALENDAR