BEGIN:VCALENDAR
VERSION:2.0
PRODID:calendify.com
BEGIN:VEVENT
UID:calendify-session-K7NgQ5NjgL8
DTSTART:20190921T101500Z
SEQUENCE:0
TRANSP:OPAQUE
DTEND:20190921T110000Z
URL:https://calendify.com/session/K7NgQ5NjgL8
LOCATION:Kleiner Saal
SUMMARY:TCP out-of-band signalling explained
CLASS:PUBLIC
DESCRIPTION:https://calendify.com/session/K7NgQ5NjgL8
DTSTAMP:20260423T095118Z
CREATED:20200610T174346Z
LAST-MODIFIED:20200610T174346Z
END:VEVENT
END:VCALENDAR