BEGIN:VCALENDAR
VERSION:2.0
PRODID:calendify.com
BEGIN:VEVENT
UID:calendify-session-K7NgQ5R9gL8
DTSTART:20171230T133000Z
SEQUENCE:0
TRANSP:OPAQUE
DTEND:20171230T140000Z
URL:https://calendify.com/session/K7NgQ5R9gL8
LOCATION:Saal Adams
SUMMARY:Fuck Dutch mass-surveillance: let's have a referendum!
CLASS:PUBLIC
DESCRIPTION:https://calendify.com/session/K7NgQ5R9gL8
DTSTAMP:20260421T160838Z
CREATED:20200625T113327Z
LAST-MODIFIED:20200625T113327Z
END:VEVENT
END:VCALENDAR