BEGIN:VCALENDAR
VERSION:2.0
PRODID:calendify.com
BEGIN:VEVENT
UID:calendify-session-K7NgQ5xmgL8
DTSTART:20200905T023000Z
SEQUENCE:0
TRANSP:OPAQUE
DTEND:20200905T043000Z
URL:https://calendify.com/session/K7NgQ5xmgL8
LOCATION:Schneider-Hoover
SUMMARY:Steffen Bennemann
CLASS:PUBLIC
DESCRIPTION:https://calendify.com/session/K7NgQ5xmgL8
DTSTAMP:20260420T144812Z
CREATED:20200904T143714Z
LAST-MODIFIED:20200904T143714Z
END:VEVENT
END:VCALENDAR