BEGIN:VCALENDAR
VERSION:2.0
PRODID:calendify.com
BEGIN:VEVENT
UID:calendify-session-K7NgQA6GgL8
DTSTART:20230611T100000Z
SEQUENCE:0
TRANSP:OPAQUE
DTEND:20230611T110000Z
URL:https://calendify.com/session/K7NgQA6GgL8
LOCATION:Raum 112 (HFG)
SUMMARY:Learn to Solder workshop
CLASS:PUBLIC
DESCRIPTION:https://calendify.com/session/K7NgQA6GgL8
DTSTAMP:20260422T160204Z
CREATED:20230604T134036Z
LAST-MODIFIED:20230611T215002Z
END:VEVENT
END:VCALENDAR