BEGIN:VCALENDAR
VERSION:2.0
PRODID:calendify.com
BEGIN:VEVENT
UID:calendify-session-K7NgQA6qgL8
DTSTART:20230605T121500Z
SEQUENCE:0
TRANSP:OPAQUE
DTEND:20230605T124500Z
URL:https://calendify.com/session/K7NgQA6qgL8
LOCATION:Lightning Box 1
SUMMARY:Do Digital Platforms Have Politics? Making Airbnb’s Ethics and Po
 litics Visible
CLASS:PUBLIC
DESCRIPTION:https://calendify.com/session/K7NgQA6qgL8
DTSTAMP:20260419T124722Z
CREATED:20230604T163756Z
LAST-MODIFIED:20230606T124205Z
END:VEVENT
END:VCALENDAR