BEGIN:VCALENDAR
VERSION:2.0
PRODID:calendify.com
BEGIN:VEVENT
UID:calendify-session-K7NgQAbqgL8
DTSTART:20221229T191500Z
SEQUENCE:0
TRANSP:OPAQUE
DTEND:20221229T201500Z
URL:https://calendify.com/session/K7NgQAbqgL8
LOCATION:HIP - Track 1 - Room 5
SUMMARY:Open Source und Cloud Native - Die  Zielarchitektur der deutschen V
 erwaltungscloud
CLASS:PUBLIC
DESCRIPTION:https://calendify.com/session/K7NgQAbqgL8
DTSTAMP:20260421T004554Z
CREATED:20221218T163040Z
LAST-MODIFIED:20221230T225002Z
END:VEVENT
END:VCALENDAR