BEGIN:VCALENDAR
VERSION:2.0
PRODID:calendify.com
BEGIN:VEVENT
UID:calendify-session-K7NgQAlagL8
DTSTART:20230605T103000Z
SEQUENCE:0
TRANSP:OPAQUE
DTEND:20230605T113000Z
URL:https://calendify.com/session/K7NgQAlagL8
LOCATION:Stage 5
SUMMARY:I'm sorry HAL\, I won't let you do that.
CLASS:PUBLIC
DESCRIPTION:https://calendify.com/session/K7NgQAlagL8
DTSTAMP:20260420T170955Z
CREATED:20230604T163759Z
LAST-MODIFIED:20230606T124205Z
END:VEVENT
END:VCALENDAR