BEGIN:VCALENDAR
VERSION:2.0
PRODID:calendify.com
BEGIN:VEVENT
UID:calendify-session-K7NgQJ6D4L8
DTSTART:20210207T160000Z
SEQUENCE:0
TRANSP:OPAQUE
DTEND:20210207T163000Z
URL:https://calendify.com/session/K7NgQJ6D4L8
LOCATION:D.docs
SUMMARY:Automate IaC documentations with terraform-docs
CLASS:PUBLIC
DESCRIPTION:https://calendify.com/session/K7NgQJ6D4L8
DTSTAMP:20260419T204342Z
CREATED:20210201T190824Z
LAST-MODIFIED:20210208T224804Z
END:VEVENT
END:VCALENDAR