BEGIN:VCALENDAR
VERSION:2.0
PRODID:calendify.com
BEGIN:VEVENT
UID:calendify-session-K7NgQJAG4L8
DTSTART:20210206T095000Z
SEQUENCE:0
TRANSP:OPAQUE
DTEND:20210206T101500Z
URL:https://calendify.com/session/K7NgQJAG4L8
LOCATION:D.research
SUMMARY: Making Tools for Social Media Research: Principles and (Future) Ch
 allenges
CLASS:PUBLIC
DESCRIPTION:https://calendify.com/session/K7NgQJAG4L8
DTSTAMP:20260424T035628Z
CREATED:20210111T170319Z
LAST-MODIFIED:20210208T224802Z
END:VEVENT
END:VCALENDAR