BEGIN:VCALENDAR
VERSION:2.0
PRODID:calendify.com
BEGIN:VEVENT
UID:calendify-session-K7NgQJAq4L8
DTSTART:20210206T131000Z
SEQUENCE:0
TRANSP:OPAQUE
DTEND:20210206T133500Z
URL:https://calendify.com/session/K7NgQJAq4L8
LOCATION:D.research
SUMMARY:Open research in life science: funding foundational tools\, trust\,
  and talent
CLASS:PUBLIC
DESCRIPTION:https://calendify.com/session/K7NgQJAq4L8
DTSTAMP:20260423T085047Z
CREATED:20210111T170319Z
LAST-MODIFIED:20210208T224803Z
END:VEVENT
END:VCALENDAR