BEGIN:VCALENDAR
VERSION:2.0
PRODID:calendify.com
BEGIN:VEVENT
UID:calendify-session-K7NgQJDB4L8
DTSTART:20210207T113500Z
SEQUENCE:0
TRANSP:OPAQUE
DTEND:20210207T120500Z
URL:https://calendify.com/session/K7NgQJDB4L8
LOCATION:D.geospatial
SUMMARY:Telegram Bot For Navigation
CLASS:PUBLIC
DESCRIPTION:https://calendify.com/session/K7NgQJDB4L8
DTSTAMP:20260419T164707Z
CREATED:20210114T155443Z
LAST-MODIFIED:20210208T224804Z
END:VEVENT
END:VCALENDAR