BEGIN:VCALENDAR
VERSION:2.0
PRODID:calendify.com
BEGIN:VEVENT
UID:calendify-session-K7NgQJE94L8
DTSTART:20210206T154000Z
SEQUENCE:0
TRANSP:OPAQUE
DTEND:20210206T160500Z
URL:https://calendify.com/session/K7NgQJE94L8
LOCATION:D.rtc
SUMMARY:Pocket SIP Multi-Tools Kit
CLASS:PUBLIC
DESCRIPTION:https://calendify.com/session/K7NgQJE94L8
DTSTAMP:20260419T223527Z
CREATED:20210113T115146Z
LAST-MODIFIED:20210208T224803Z
END:VEVENT
END:VCALENDAR